BEGIN:VCALENDAR
VERSION:2.0
PRODID:-//eventon.com NONSGML v1.0//EN
CALSCALE:GREGORIAN
METHOD:PUBLISH
BEGIN:VEVENT
UID:69e7390444b88
DTSTAMP:20260421T084452Z
DTSTART:20200709T103000Z
DTEND:20200711T123000Z
LOCATION:
SUMMARY:UPSKILL: Certificate Course on Labour and Employment Laws
DESCRIPTION:Upskill yourself in Labour and Employment Laws and HR and help 
 your organization in these trying times. A certificate course designed to p
 rovide a strong foundation in applicable labour laws and their practical ap
 plication. The course will leave you well equipped to build on your employm
 ent law skills and usage.[..]\nhttps://bcpassociates.com/events/upskill-cer
 tificate-course-on-labour-and-employment-laws-2/
URL:https://bcpassociates.com/events/upskill-certificate-course-on-labour-and-employment-laws-2/
END:VEVENT
END:VCALENDAR